BEGIN:VCALENDAR
VERSION:2.0
PRODID:-//wp-events-plugin.com//6.6.4.4//EN
TZID:Europe/Paris
X-WR-TIMEZONE:Europe/Paris
BEGIN:VEVENT
UID:116@accord-ages.fr
DTSTART;TZID=Europe/Paris:20221208T120000
DTEND;TZID=Europe/Paris:20221208T170000
DTSTAMP:20221108T084332Z
URL:https://www.accord-ages.fr/events/repas-de-noel-des-aidants-2/
SUMMARY:Repas de Noël des Aidants
DESCRIPTION:\n\n&nbsp\;\n\n&nbsp\;\n\n&nbsp\;
LOCATION:salle des fêtes\, rue guérin des fontaines\, Le Vieil Baugé\, 4
 9150\, France
X-APPLE-STRUCTURED-LOCATION;VALUE=URI;X-ADDRESS=rue guérin des fontaines\,
  Le Vieil Baugé\, 49150\, France;X-APPLE-RADIUS=100;X-TITLE=salle des fê
 tes:geo:0,0
END:VEVENT
BEGIN:VTIMEZONE
TZID:Europe/Paris
X-LIC-LOCATION:Europe/Paris
BEGIN:STANDARD
DTSTART:20221030T020000
TZOFFSETFROM:+0200
TZOFFSETTO:+0100
TZNAME:CET
END:STANDARD
END:VTIMEZONE
END:VCALENDAR