BEGIN:VCALENDAR
VERSION:2.0
PRODID:-//wp-events-plugin.com//6.6.4.4//EN
TZID:Europe/Paris
X-WR-TIMEZONE:Europe/Paris
BEGIN:VEVENT
UID:174@accord-ages.fr
DTSTART;TZID=Europe/Paris:20230707T140000
DTEND;TZID=Europe/Paris:20230707T170000
DTSTAMP:20230315T120022Z
URL:https://www.accord-ages.fr/events/reflexologie-plantaire-4/
SUMMARY:Réflexologie plantaire
DESCRIPTION:Temps bien être sur inscription\, limité à 4 fois par an\n\n
 3 créneaux disponibles: 14h à 15h ou de 15h à 16h ou de 16h à 17h\n\n
END:VEVENT
BEGIN:VTIMEZONE
TZID:Europe/Paris
X-LIC-LOCATION:Europe/Paris
BEGIN:DAYLIGHT
DTSTART:20230326T030000
TZOFFSETFROM:+0100
TZOFFSETTO:+0200
TZNAME:CEST
END:DAYLIGHT
END:VTIMEZONE
END:VCALENDAR