BEGIN:VCALENDAR
VERSION:2.0
PRODID:-//wp-events-plugin.com//6.6.4.4//EN
TZID:Europe/Paris
X-WR-TIMEZONE:Europe/Paris
BEGIN:VEVENT
UID:36@accord-ages.fr
DTSTART;TZID=Europe/Paris:20220211T140000
DTEND;TZID=Europe/Paris:20220211T160000
DTSTAMP:20211209T101427Z
URL:https://www.accord-ages.fr/events/la-petite-parenthese-des-aidants-7/
SUMMARY:La Petite Parenthèse des Aidants
DESCRIPTION:Un temps de rencontre et d'échange dédié aux proches aidants
  du Nord Est Anjou.\nCe temps de partage est animé par des professionnell
 es du CLIC et de la Plateforme d'Accompagnement et de Répit des Aidants -
  Accord'Âges\nInscription au 02.41.89.55.10 - gratuit
LOCATION:France Services\, 14 bis rue Henri Régnier\, Seiches sur Le Loir\
 , 49140\, France
X-APPLE-STRUCTURED-LOCATION;VALUE=URI;X-ADDRESS=14 bis rue Henri Régnier\,
  Seiches sur Le Loir\, 49140\, France;X-APPLE-RADIUS=100;X-TITLE=France Se
 rvices:geo:0,0
END:VEVENT
BEGIN:VTIMEZONE
TZID:Europe/Paris
X-LIC-LOCATION:Europe/Paris
BEGIN:STANDARD
DTSTART:20211031T020000
TZOFFSETFROM:+0200
TZOFFSETTO:+0100
TZNAME:CET
END:STANDARD
END:VTIMEZONE
END:VCALENDAR