BEGIN:VCALENDAR
VERSION:2.0
PRODID:-//wp-events-plugin.com//6.6.4.4//EN
TZID:Europe/Paris
X-WR-TIMEZONE:Europe/Paris
BEGIN:VEVENT
UID:514@accord-ages.fr
DTSTART;TZID=Europe/Paris:20260115T140000
DTEND;TZID=Europe/Paris:20260115T163000
DTSTAMP:20251208T155031Z
URL:https://www.accord-ages.fr/events/galette-des-aidants-apres-midi-convi
 vial-musical/
SUMMARY:Galette des aidants - après midi convivial musical
DESCRIPTION:
LOCATION:Espace Jean Rostand\, 330\, rue Emmanuel Clairefond\, Saumur\, 494
 00\, France
X-APPLE-STRUCTURED-LOCATION;VALUE=URI;X-ADDRESS=330\, rue Emmanuel Clairefo
 nd\, Saumur\, 49400\, France;X-APPLE-RADIUS=100;X-TITLE=Espace Jean Rostan
 d:geo:0,0
END:VEVENT
BEGIN:VTIMEZONE
TZID:Europe/Paris
X-LIC-LOCATION:Europe/Paris
BEGIN:STANDARD
DTSTART:20251026T020000
TZOFFSETFROM:+0200
TZOFFSETTO:+0100
TZNAME:CET
END:STANDARD
END:VTIMEZONE
END:VCALENDAR