BEGIN:VCALENDAR
VERSION:2.0
PRODID:-//wp-events-plugin.com//6.6.4.4//EN
TZID:Europe/Paris
X-WR-TIMEZONE:Europe/Paris
BEGIN:VEVENT
UID:374@accord-ages.fr
DTSTART;TZID=Europe/Paris:20250203T143000
DTEND;TZID=Europe/Paris:20250203T143000
DTSTAMP:20241218T154005Z
URL:https://www.accord-ages.fr/events/conference-sur-la-succession/
SUMMARY:Conférence sur la Succession
DESCRIPTION:Maitre BAVIERE (notaire à Baugé) et Maitre FICHET (notaire de
  Noyant) animeront la Conférence sur « la succession »
LOCATION:Salle des 3 épis\, Méon\, Noyant Villages\, France
X-APPLE-STRUCTURED-LOCATION;VALUE=URI;X-ADDRESS=Méon\, Noyant Villages\, F
 rance;X-APPLE-RADIUS=100;X-TITLE=Salle des 3 épis:geo:0,0
END:VEVENT
BEGIN:VTIMEZONE
TZID:Europe/Paris
X-LIC-LOCATION:Europe/Paris
BEGIN:STANDARD
DTSTART:20241027T020000
TZOFFSETFROM:+0200
TZOFFSETTO:+0100
TZNAME:CET
END:STANDARD
END:VTIMEZONE
END:VCALENDAR