BEGIN:VCALENDAR
VERSION:2.0
PRODID:-//wp-events-plugin.com//6.6.4.4//EN
TZID:Europe/Paris
X-WR-TIMEZONE:Europe/Paris
BEGIN:VEVENT
UID:190@accord-ages.fr
DTSTART;TZID=Europe/Paris:20230509T143000
DTEND;TZID=Europe/Paris:20230509T163000
DTSTAMP:20230407T102511Z
URL:https://www.accord-ages.fr/events/atelier-gestes-et-postures-manipulat
 ion-des-fauteuils-et-des-appareils-de-transfert/
SUMMARY:Atelier Gestes et Postures: Manipulation des fauteuils et des appar
 eils de transfert
DESCRIPTION:Possibilité d'accompagner votre proche\n\nGratuit sur inscript
 ion au 02.41.89.11.38\n\n
LOCATION:Locaux du SSIAD (Service de Soins Infirmiers à Domicile)\, 9\, ch
 emin de Rancan\, Baugé en Anjou\, 49150\, France
X-APPLE-STRUCTURED-LOCATION;VALUE=URI;X-ADDRESS=9\, chemin de Rancan\, Baug
 é en Anjou\, 49150\, France;X-APPLE-RADIUS=100;X-TITLE=Locaux du SSIAD (S
 ervice de Soins Infirmiers à Domicile):geo:0,0
END:VEVENT
BEGIN:VTIMEZONE
TZID:Europe/Paris
X-LIC-LOCATION:Europe/Paris
BEGIN:DAYLIGHT
DTSTART:20230326T030000
TZOFFSETFROM:+0100
TZOFFSETTO:+0200
TZNAME:CEST
END:DAYLIGHT
END:VTIMEZONE
END:VCALENDAR