BEGIN:VCALENDAR
VERSION:2.0
PRODID:-//wp-events-plugin.com//6.6.4.4//EN
TZID:Europe/Paris
X-WR-TIMEZONE:Europe/Paris
BEGIN:VEVENT
UID:509@accord-ages.fr
DTSTART;TZID=Europe/Paris:20260105T143000
DTEND;TZID=Europe/Paris:20260105T160000
DTSTAMP:20251208T145026Z
URL:https://www.accord-ages.fr/events/atelier-bien-etre-sophrologie-77/
SUMMARY:Atelier bien être Sophrologie
DESCRIPTION:Atelier gratuit pour les aidants et leurs proches\n\nAnimé par
  Anne Laure Cochin\, sophrologue\n\nDes professionnels de la Plateforme pe
 uvent accompagner votre proche durant le temps de l'atelier\, au sein d'un
  salon de l'Ehpad. C'est un temps convivial\, où l'on échange et où l'o
 n peut proposer des activités adaptées.\n\nInscription obligatoire
LOCATION:Salle de réunion\, 111\, rue du Mouton\, Saumur\, 49400\, France
X-APPLE-STRUCTURED-LOCATION;VALUE=URI;X-ADDRESS=111\, rue du Mouton\, Saumu
 r\, 49400\, France;X-APPLE-RADIUS=100;X-TITLE=Salle de réunion:geo:0,0
END:VEVENT
BEGIN:VTIMEZONE
TZID:Europe/Paris
X-LIC-LOCATION:Europe/Paris
BEGIN:STANDARD
DTSTART:20251026T020000
TZOFFSETFROM:+0200
TZOFFSETTO:+0100
TZNAME:CET
END:STANDARD
END:VTIMEZONE
END:VCALENDAR