BEGIN:VCALENDAR
VERSION:2.0
PRODID:-//wp-events-plugin.com//6.6.4.4//EN
TZID:Europe/Paris
X-WR-TIMEZONE:Europe/Paris
BEGIN:VEVENT
UID:507@accord-ages.fr
DTSTART;TZID=Europe/Paris:20260126T143000
DTEND;TZID=Europe/Paris:20260126T160000
DTSTAMP:20251208T144656Z
URL:https://www.accord-ages.fr/events/atelier-bien-etre-sophrologie-75/
SUMMARY:Atelier bien être - Sophrologie
DESCRIPTION:Atelier bien être proposé aux proches aidants.\n\nNous propos
 ons d'accompagner votre proche aidé\, durant l'atelier pour profiter de c
 e moment en toute sérénité.\n\nInscription obligatoire au 02.41.89.55.1
 0
LOCATION:Salle Colibri - EHPAD Mazé\, 15\, rue Paul Richou\, Mazé\, 49630
 \, France
X-APPLE-STRUCTURED-LOCATION;VALUE=URI;X-ADDRESS=15\, rue Paul Richou\, Maz
 é\, 49630\, France;X-APPLE-RADIUS=100;X-TITLE=Salle Colibri - EHPAD Mazé
 :geo:0,0
END:VEVENT
BEGIN:VTIMEZONE
TZID:Europe/Paris
X-LIC-LOCATION:Europe/Paris
BEGIN:STANDARD
DTSTART:20251026T020000
TZOFFSETFROM:+0200
TZOFFSETTO:+0100
TZNAME:CET
END:STANDARD
END:VTIMEZONE
END:VCALENDAR