BEGIN:VCALENDAR
VERSION:2.0
PRODID:-//wp-events-plugin.com//6.6.4.4//EN
TZID:Europe/Paris
X-WR-TIMEZONE:Europe/Paris
BEGIN:VEVENT
UID:506@accord-ages.fr
DTSTART;TZID=Europe/Paris:20260108T143000
DTEND;TZID=Europe/Paris:20260108T160000
DTSTAMP:20251208T144627Z
URL:https://www.accord-ages.fr/events/atelier-bien-etre-sophrologie-74/
SUMMARY:Atelier bien être sophrologie
DESCRIPTION:Atelier gratuit pour les aidants\n\nAnimé par Audrey Garde\, s
 ophrologue\, dans la salle Bulle.\n\nDes professionnels de la Plateforme p
 euvent accompagner votre proche durant le temps de l'atelier\, dans une sa
 lle de l'Ehpad Sainte Anne.\n\nC'est un temps convivial\, où l'on échang
 e et où l'on propose des activités adaptées.\n\nInscription obligatoire
 \n\n&nbsp\;
LOCATION:EHPAD Sainte Anne\, 2 rue du Bourg Joly\, Tiercé\, France
X-APPLE-STRUCTURED-LOCATION;VALUE=URI;X-ADDRESS=2 rue du Bourg Joly\, Tierc
 é\, France;X-APPLE-RADIUS=100;X-TITLE=EHPAD Sainte Anne:geo:0,0
END:VEVENT
BEGIN:VTIMEZONE
TZID:Europe/Paris
X-LIC-LOCATION:Europe/Paris
BEGIN:STANDARD
DTSTART:20251026T020000
TZOFFSETFROM:+0200
TZOFFSETTO:+0100
TZNAME:CET
END:STANDARD
END:VTIMEZONE
END:VCALENDAR