BEGIN:VCALENDAR
VERSION:2.0
PRODID:-//wp-events-plugin.com//6.6.4.4//EN
TZID:Europe/Paris
X-WR-TIMEZONE:Europe/Paris
BEGIN:VEVENT
UID:256@accord-ages.fr
DTSTART;TZID=Europe/Paris:20241105T143000
DTEND;TZID=Europe/Paris:20241105T160000
DTSTAMP:20240110T152127Z
URL:https://www.accord-ages.fr/events/atelier-bien-etre-sophrologie-30/
SUMMARY:Atelier bien être Sophrologie
DESCRIPTION:Atelier gratuit pour les aidants\n\nAnimé par Sonia Meunier et
  Liliane Sallé-Préveaux d'Histoire De\n\nDes professionnels de la Platef
 orme peuvent accompagner votre proche durant le temps de l'atelier\, au se
 in de la petite salle Delaporte. C'est un temps convivial\, où l'on écha
 nge et où l'on peut proposer des activités adaptées.\n\nInscription obl
 igatoire
LOCATION:Salle Paul Delaporte\, 9 avenue de la gare\, Noyant\, France
X-APPLE-STRUCTURED-LOCATION;VALUE=URI;X-ADDRESS=9 avenue de la gare\, Noyan
 t\, France;X-APPLE-RADIUS=100;X-TITLE=Salle Paul Delaporte:geo:0,0
END:VEVENT
BEGIN:VTIMEZONE
TZID:Europe/Paris
X-LIC-LOCATION:Europe/Paris
BEGIN:STANDARD
DTSTART:20241027T020000
TZOFFSETFROM:+0200
TZOFFSETTO:+0100
TZNAME:CET
END:STANDARD
END:VTIMEZONE
END:VCALENDAR