BEGIN:VCALENDAR
VERSION:2.0
PRODID:-//wp-events-plugin.com//6.6.4.4//EN
TZID:Europe/Paris
X-WR-TIMEZONE:Europe/Paris
BEGIN:VEVENT
UID:141@accord-ages.fr
DTSTART;TZID=Europe/Paris:20231205T143000
DTEND;TZID=Europe/Paris:20231205T160000
DTSTAMP:20221228T085013Z
URL:https://www.accord-ages.fr/events/atelier-bien-etre-sophrologie-19/
SUMMARY:Atelier bien être Sophrologie
DESCRIPTION:
LOCATION:Salle Paul Delaporte\, 9 avenue de la gare\, Noyant\, France
X-APPLE-STRUCTURED-LOCATION;VALUE=URI;X-ADDRESS=9 avenue de la gare\, Noyan
 t\, France;X-APPLE-RADIUS=100;X-TITLE=Salle Paul Delaporte:geo:0,0
END:VEVENT
BEGIN:VTIMEZONE
TZID:Europe/Paris
X-LIC-LOCATION:Europe/Paris
BEGIN:STANDARD
DTSTART:20231029T020000
TZOFFSETFROM:+0200
TZOFFSETTO:+0100
TZNAME:CET
END:STANDARD
END:VTIMEZONE
END:VCALENDAR