BEGIN:VCALENDAR
VERSION:2.0
PRODID:-//wp-events-plugin.com//6.6.4.4//EN
TZID:Europe/Paris
X-WR-TIMEZONE:Europe/Paris
BEGIN:VEVENT
UID:75@accord-ages.fr
DTSTART;TZID=Europe/Paris:20221024T143000
DTEND;TZID=Europe/Paris:20221024T160000
DTSTAMP:20220404T141922Z
URL:https://www.accord-ages.fr/events/atelier-bien-etre-socio-esthetique-7
 /
SUMMARY:Atelier bien être socio esthétique
DESCRIPTION:
LOCATION:SSIAD\, 9\, chemin de Rancan\, Baugé en Anjou\, 49150\, France
X-APPLE-STRUCTURED-LOCATION;VALUE=URI;X-ADDRESS=9\, chemin de Rancan\, Baug
 é en Anjou\, 49150\, France;X-APPLE-RADIUS=100;X-TITLE=SSIAD:geo:0,0
END:VEVENT
BEGIN:VTIMEZONE
TZID:Europe/Paris
X-LIC-LOCATION:Europe/Paris
BEGIN:DAYLIGHT
DTSTART:20220327T030000
TZOFFSETFROM:+0100
TZOFFSETTO:+0200
TZNAME:CEST
END:DAYLIGHT
END:VTIMEZONE
END:VCALENDAR